BEGIN:VCALENDAR
VERSION:2.0
PRODID:-//Doncaster Danum Scouts - ECPv6.15.20//NONSGML v1.0//EN
CALSCALE:GREGORIAN
METHOD:PUBLISH
X-WR-CALNAME:Doncaster Danum Scouts
X-ORIGINAL-URL:https://doncasterscouts.org.uk
X-WR-CALDESC:Events for Doncaster Danum Scouts
REFRESH-INTERVAL;VALUE=DURATION:PT1H
X-Robots-Tag:noindex
X-PUBLISHED-TTL:PT1H
BEGIN:VTIMEZONE
TZID:Europe/London
BEGIN:DAYLIGHT
TZOFFSETFROM:+0000
TZOFFSETTO:+0100
TZNAME:BST
DTSTART:20250330T010000
END:DAYLIGHT
BEGIN:STANDARD
TZOFFSETFROM:+0100
TZOFFSETTO:+0000
TZNAME:GMT
DTSTART:20251026T010000
END:STANDARD
BEGIN:DAYLIGHT
TZOFFSETFROM:+0000
TZOFFSETTO:+0100
TZNAME:BST
DTSTART:20260329T010000
END:DAYLIGHT
BEGIN:STANDARD
TZOFFSETFROM:+0100
TZOFFSETTO:+0000
TZNAME:GMT
DTSTART:20261025T010000
END:STANDARD
BEGIN:DAYLIGHT
TZOFFSETFROM:+0000
TZOFFSETTO:+0100
TZNAME:BST
DTSTART:20270328T010000
END:DAYLIGHT
BEGIN:STANDARD
TZOFFSETFROM:+0100
TZOFFSETTO:+0000
TZNAME:GMT
DTSTART:20271031T010000
END:STANDARD
END:VTIMEZONE
BEGIN:VEVENT
DTSTART;TZID=Europe/London:20260620T140000
DTEND;TZID=Europe/London:20260620T210000
DTSTAMP:20260422T151940
CREATED:20260415T144729Z
LAST-MODIFIED:20260416T120134Z
UID:10000020-1781964000-1781989200@doncasterscouts.org.uk
SUMMARY:District Explorer Inter-Unit Archery & Shooting Competition
DESCRIPTION:Step up to the line\, find your focus and bring your A-game. \nJoin us for Danum’s annual Explorer Archery and Shooting Competition — a competitive and engaging event where Explorers can test their precision\, challenge themselves and represent their unit. \n\nEvent Overview\nThis inter-unit competition brings together Explorers from across the district for a day of skill\, focus and friendly competition. \nParticipants will take part in both archery and shooting disciplines\, aiming to achieve the highest scores individually and as part of their unit. Whether experienced or completely new\, the event is open to all abilities\, with qualified NSRA and AGB leaders supervising all activities. \nThroughout the event\, Explorers will rotate between activities\, with time to relax between sessions while waiting for their turn. \n\nWhat to Expect\n\nArchery competition\nShooting competition\nQualified NSRA and AGB instructors\nIndividual and team scoring\nStructured rotations throughout the event\nOpportunity to compete against other Explorer Units\n\n\nWho Can Attend\n\nExplorer Scouts\nMaximum 30 young people\nMaximum 5 Explorers per unit\nOpen to all abilities\n\n\nKey Details\n\nVenue: 55th Doncaster (Intake) Scout HQ\, Cumberland Avenue\, Intake\, Doncaster\, DN2 6LH\nDate: Saturday 20 June 2026\nTime: 2:00pm to 9:00pm\nCost: £15 per Explorer\nFood & Drink: Meal and drinks provided during the event\n\n\nKit List\n\nSigned digital shooting consent formhttps://doncasterscouts.org.uk/shooting-consent\nNecker only (full uniform not required)\nCold weather clothing (activities include outdoor waiting periods)\nOptional: small card game or board game for downtime\n\n\nImportant Information\n\nMobile phones may be brought at the owner’s risk but must be turned off during activities\nArchery will take place in the Church Hall\nShooting will take place in the Scout Hut\nExplorers will wait in a marquee between activities\n\n\nBooking & Payment\n\nBookings open: 13 April 2026\nBookings close: 20 May 2026\nBookings must be made online by the Group\nYour Group will be invoiced for all places booked\nPayment should be made by bank transfer before the event\nMedical and dietary information must be provided at the time of booking\nA digital shooting consent form is required for all participants\n\n\nLeader Information\n\nLeaders are not required to attend\nThe event will be fully supervised and delivered by the District Events Team\n\n\nPrizes\n\nBest individual score – Archery\nBest individual score – Shooting\nBest combined individual score\nTop team score (combined Archery and Shooting)
URL:https://doncasterscouts.org.uk/event/district-explorer-inter-unit-archery-shooting-competition
LOCATION:55th Doncaster (Intake) Scout HQ\, Cumberland Avenue\, Intake\, Doncaster\, DN2 6LH\, United Kingdom
ATTACH;FMTTYPE=image/png:https://doncasterscouts.org.uk/wp-content/uploads/2026/04/Explorers-Archery-Shooting.png
ORGANIZER;CN="Doncaster Scouts":MAILTO:tickets@doncasterscouts.org.uk
GEO:53.5286202;-1.0984485
X-APPLE-STRUCTURED-LOCATION;VALUE=URI;X-ADDRESS=55th Doncaster (Intake) Scout HQ Cumberland Avenue Intake Doncaster DN2 6LH United Kingdom;X-APPLE-RADIUS=500;X-TITLE=Cumberland Avenue\, Intake:geo:-1.0984485,53.5286202
END:VEVENT
BEGIN:VEVENT
DTSTART;TZID=Europe/London:20260621T090000
DTEND;TZID=Europe/London:20260621T160000
DTSTAMP:20260422T151940
CREATED:20260415T153914Z
LAST-MODIFIED:20260416T120222Z
UID:10000021-1782032400-1782057600@doncasterscouts.org.uk
SUMMARY:District Scouts Inter-Group Archery & Shooting Competition
DESCRIPTION:Could your Troop take home the title this year? \nJoin us for Danum’s annual Scout Archery and Shooting Competition — a fun and competitive day where Scouts can test their skills\, try new activities and represent their Group. \n\nEvent Overview\nThis inter-group competition brings together Scouts from across the district for a day of challenge\, creativity and friendly competition. \nScouts will take part in both archery and shooting disciplines\, alongside additional activities including wire woggles and paracord bracelets. The event is open to all abilities\, with qualified NSRA and AGB leaders supervising all activities. \nThroughout the day\, Scouts will rotate between activity bases\, ensuring everyone has the opportunity to take part while enjoying a varied and engaging programme. \n\nWhat to Expect\n\nArchery competition\nShooting competition\nWire woggle making\nParacord bracelet making\nQualified NSRA and AGB instructors\nIndividual and team scoring\nStructured rotations across activities\n\n\nWho Can Attend\n\nScouts\nMaximum 30 young people\nMaximum 3 Scouts per Group\nOpen to all abilities\n\n\nKey Details\n\nVenue: 55th Doncaster (Intake) Scout HQ\, Cumberland Avenue\, Intake\, Doncaster\, DN2 6LH\nDate: Sunday 21 June 2026\nTime: 9:00am to 4:00pm\nCost: £15 per Scout\nDrinks: Provided during the day\n\n\nKit List\n\nSigned digital shooting consent formhttps://doncasterscouts.org.uk/shooting-consent\nNecker only (full uniform not required)\nCold weather clothing (activities include outdoor waiting periods)\nPacked lunch\nOptional: small card game or board game for downtime\n\n\nImportant Information\n\nMobile phones may be brought at the owner’s risk but must be turned off during activities\nArchery will take place in the Church Hall\nShooting will take place in the Scout Hut\nScouts will wait in a marquee between activities\n\n\nBooking & Payment\n\nBookings open: 13 April 2026\nBookings close: 20 May 2026\nBookings must be made online by the Group\nYour Group will be invoiced for all places booked\nPayment should be made by bank transfer before the event\nMedical information must be provided at the time of booking\nA digital shooting consent form is required for all participants\n\n\nLeader Information\n\nLeaders are not required to attend\nThe event will be fully supervised and delivered by the District Events Team\n\n\nPrizes\n\nBest individual score – Archery\nBest individual score – Shooting\nBest combined individual score\nTop team score (combined Archery and Shooting)
URL:https://doncasterscouts.org.uk/event/district-scouts-inter-group-archery-shooting-competition
LOCATION:55th Doncaster (Intake) Scout HQ\, Cumberland Avenue\, Intake\, Doncaster\, DN2 6LH\, United Kingdom
ATTACH;FMTTYPE=image/png:https://doncasterscouts.org.uk/wp-content/uploads/2026/04/Scouts-Archery-Shooting.png
ORGANIZER;CN="Doncaster Scouts":MAILTO:tickets@doncasterscouts.org.uk
GEO:53.5286202;-1.0984485
X-APPLE-STRUCTURED-LOCATION;VALUE=URI;X-ADDRESS=55th Doncaster (Intake) Scout HQ Cumberland Avenue Intake Doncaster DN2 6LH United Kingdom;X-APPLE-RADIUS=500;X-TITLE=Cumberland Avenue\, Intake:geo:-1.0984485,53.5286202
END:VEVENT
END:VCALENDAR